BEGIN:VCALENDAR
CALSCALE:GREGORIAN
METHOD:PUBLISH
VERSION:2.0
PRODID:-//iCalWriter OpenSource Project//iCalWriter 0.8.1//EN
BEGIN:VEVENT
DTSTAMP:20260421T114617Z
UID:1776771977A365@www.gemeinde-salzatal.de
DTSTART:20260501T150000
DTEND;VALUE=DATE:20261004
SUMMARY:Saisonstart der Zappendorfer Besenwirtschaft auf dem BERGHOF
DESCRIPTION:Zur Aufrechterhaltung und Förderung des kulturellen Lebens und des traditionellen Brauchtums in Salzatal veranstaltet der BERGHOF in Zappendorf auch in diesem Jahr eine Besenwirtschaft. Eingeladen wird von Mai bis Juni und von Mitte August bis Anfang Oktober 2026 jeweils Samstag und Sonntag und an Feiertagen zum geselligen Beisammensein bei hausgemachtem Wein, Kaffee und Kuchen zu moderaten Preisen. Höhepunkt der ersten Jahreshälfte soll ein musikalisches Programm mit Händelmusik zum 23. Zappendorfer Händel Weinblütenfest werden.
LOCATION:BERGHOF Zappendorf 06198 Salzatal / OT Zappendorf
CATEGORIES:Kunst/ Kultur und Literatur
URL:https://www.gemeinde-salzatal.de/de/veranstaltungen/event/59006,1246/saisonstart-der-zappendorfer-besenwirtschaft-auf-dem-berghof-01-05-2026.html
ATTACH:https://www.gemeinde-salzatal.de/de/datei/anzeigen/id/59007,1246/berghof_-_besenwirtschaft_2026.jpg
END:VEVENT
END:VCALENDAR
