BEGIN:VCALENDAR
CALSCALE:GREGORIAN
METHOD:PUBLISH
VERSION:2.0
PRODID:-//iCalWriter OpenSource Project//iCalWriter 0.8.1//EN
BEGIN:VEVENT
DTSTAMP:20260421T113742Z
UID:17767714621uQ5@www.gemeinde-salzatal.de
DTSTART:20260523T150000
DTEND:20260525T180000
SUMMARY:Tag des Weines am St. Urbans-Tag
DESCRIPTION:Im Rahmen seiner Besenwirtschaft bietet der BERGHOF in Zappendorf zum diesjährigen Pfingstwochenende eine Informationsveranstaltung rund um den Wein und den Weinheiligen St. Urban an. Dabei besteht die Möglichkeit, die im Entstehen befindliche Hofkellerei zu besichtigen und Weine verschiedener Geschmacksrichtungen kennen zu lernen.
LOCATION:BERGHOF Zappendorf 06198 Salzatal / OT Zappendorf
CATEGORIES:Kunst/ Kultur und Literatur
URL:https://www.gemeinde-salzatal.de/de/veranstaltungen/event/59010,1246/tag-des-weines-am-st-urbans-tag-23-05-2026.html
ATTACH:https://www.gemeinde-salzatal.de/de/datei/anzeigen/id/59011,1246/berghof_-_tag_des_weines_2026.jpg
END:VEVENT
END:VCALENDAR
