BEGIN:VCALENDAR
CALSCALE:GREGORIAN
METHOD:PUBLISH
VERSION:2.0
PRODID:-//iCalWriter OpenSource Project//iCalWriter 0.8.1//EN
BEGIN:VEVENT
DTSTAMP:20260421T114121Z
UID:1776771681tgGU@www.gemeinde-salzatal.de
DTSTART:20260606T150000
DTEND:20260607T180000
SUMMARY:Hessischer Tag zum Welt-Apfelwein-Tag
DESCRIPTION:Anlässlich des diesjährigen Welt-Apfelwein-Tags veranstaltet der BERGHOF in Zappendorf am 6. und 7. Juni 2026 einen Hessischen Tag. Nach traditioneller Art wird der Apfelwein aus dem Krug eingeschenkt und nach Bedarf süß oder sauer 'gespritzt'. Dazu werden landestypische Speisen wie Obatzda und Handkäs mit Musi angeboten. Besenwirt Mathias informiert gern zum Apfelwein und den vom BERGHOF angebauten Apfelsorten und möchte mit musikalischen Einlagen für passende Stimmung und Unterhaltung sorgen.
LOCATION:BERGHOF Zappendorf 06198 Salzatal / OT Zappendorf
CATEGORIES:Kunst/ Kultur und Literatur
URL:https://www.gemeinde-salzatal.de/de/veranstaltungen/event/59016,1246/hessischer-tag-zum-welt-apfelwein-tag-06-06-2026.html
ATTACH:https://www.gemeinde-salzatal.de/de/datei/anzeigen/id/59017,1246/berghof_-_welt-apfelweintag_2026.jpg
END:VEVENT
END:VCALENDAR
