BEGIN:VCALENDAR
CALSCALE:GREGORIAN
METHOD:PUBLISH
VERSION:2.0
PRODID:-//iCalWriter OpenSource Project//iCalWriter 0.8.1//EN
BEGIN:VEVENT
DTSTAMP:20260421T113332Z
UID:1776771212Ci4Y@www.gemeinde-salzatal.de
DTSTART:20260613T100000
DTEND;VALUE=DATE:20260613
SUMMARY:BERGHOF-Programm zum 23. Zappendorfer Händel Weinblütenfest
DESCRIPTION:Zum neuen Format des Zappendorfer Händel Weinblütenfests öffnen mehrere touristische Orte in Zappendorf ab 10:00 Uhr für Besucher; so auch die Besenwirtschaft auf dem BERGHOF. Hier werden zu verschiedenen Zeiten zwei Musikerinnen aus der Familie und eine Sängerin aus der Nachbarschaft ein kurzes Programm aus Musikstücken und Liedern des Komponisten vortragen. Hauswein und Hausgemachtes ergänzen die Hausmusik.
LOCATION:BERGHOF Zappendorf 06198 Salzatal / OT Zappendorf
CATEGORIES:Kunst/ Kultur und Literatur
URL:https://www.gemeinde-salzatal.de/de/veranstaltungen/event/59018,1246/berghof-programm-zum-23-zappendorfer-haendel-weinbluetenfest-13-06-2026.html
ATTACH:https://www.gemeinde-salzatal.de/de/datei/anzeigen/id/59019,1246/berghof_-_haendel_weinbluetenfest_2026.jpg
END:VEVENT
END:VCALENDAR
