BEGIN:VCALENDAR
CALSCALE:GREGORIAN
METHOD:PUBLISH
VERSION:2.0
PRODID:-//iCalWriter OpenSource Project//iCalWriter 0.8.1//EN
BEGIN:VEVENT
DTSTAMP:20260422T144519Z
UID:1776869119ecIx@www.gemeinde-salzatal.de
DTSTART:20260425T100000
DTEND;VALUE=DATE:20260425
SUMMARY:25 Jahre Frühlingswanderung Weinbauverein Höhnstedt
DESCRIPTION:
LOCATION:Touristikgebäude 06198 Salzatal / Höhnstedt
Weinbauverein Höhnstedt 06198 Salzatal OT Höhnstedt
CATEGORIES:Sonstiges,Startseite
URL:https://www.gemeinde-salzatal.de/de/veranstaltungen/event/59728,1246/25-jahre-fruehlingswanderung-weinbauverein-hoehnstedt-25-04-2026.html
ATTACH:https://www.gemeinde-salzatal.de/de/datei/anzeigen/id/59729,1246/hoehnstedt_-_fruehlingswanderung_2026.jpg
END:VEVENT
END:VCALENDAR
