BEGIN:VCALENDAR
CALSCALE:GREGORIAN
METHOD:PUBLISH
VERSION:2.0
PRODID:-//iCalWriter OpenSource Project//iCalWriter 0.8.1//EN
BEGIN:VEVENT
DTSTAMP:20260422T145119Z
UID:1776869479w5Tg@www.gemeinde-salzatal.de
DTSTART:20260425T130000
DTEND;VALUE=DATE:20260426
SUMMARY:135. Kloschwitzer Blütenfest
DESCRIPTION:
LOCATION:Festwiese Kloschwitz 06198 Salzatal
Heimat- und Kulturverein Kloschwitz e. V. 
		06198 Salzatal / Kloschwitz
	
CATEGORIES:Familien und Kinder,Seniorinnen + Senioren,Startseite,Volksfeste/ Märkte
URL:https://www.gemeinde-salzatal.de/de/veranstaltungen/event/59732,1246/135-kloschwitzer-bluetenfest-25-04-2026.html
ATTACH:https://www.gemeinde-salzatal.de/de/datei/anzeigen/id/59733,1246/kloschwitz_-_bluetenfestprogramm_2026_final.png
END:VEVENT
END:VCALENDAR
