BEGIN:VCALENDAR
CALSCALE:GREGORIAN
METHOD:PUBLISH
VERSION:2.0
PRODID:-//iCalWriter OpenSource Project//iCalWriter 0.8.1//EN
BEGIN:VEVENT
DTSTAMP:20260422T111608Z
UID:1776856568os1V@www.gemeinde-salzatal.de
DTSTART:20260502T180000
DTEND;VALUE=DATE:20260502
SUMMARY:Tanz im Mai in Zappendorf am 02.05.2026
DESCRIPTION:
LOCATION:Festwiese Zappendorf 
		06198 Salzatal / Zappendorf
	
Zappendorfer Carnevalsverein e. V. (ZCV) 
		06198 Salzatal / Zappendorf
	
CATEGORIES:Musik,Startseite
URL:https://www.gemeinde-salzatal.de/de/veranstaltungen/event/59757,1246/tanz-im-mai-in-zappendorf-am-02052026-02-05-2026.html
ATTACH:https://www.gemeinde-salzatal.de/de/datei/anzeigen/id/59758,1246/zappendorf_-_tanz_im_mai.jpg
END:VEVENT
END:VCALENDAR
