BEGIN:VCALENDAR
CALSCALE:GREGORIAN
METHOD:PUBLISH
VERSION:2.0
PRODID:-//iCalWriter OpenSource Project//iCalWriter 0.8.1//EN
BEGIN:VEVENT
DTSTAMP:20260422T111735Z
UID:1776856655GSKC@www.gemeinde-salzatal.de
DTSTART:20260613T100000
DTEND;VALUE=DATE:20260613
SUMMARY:23. Zappendorfer Händel Weinblütenfest am 13.Juni 2026
DESCRIPTION:
LOCATION:Landwirtschafts- und Heimatmuseum Zappendorf 
		06198 Salzatal / Müllerdorf
	
BERGHOF Zappendorf 06198 Salzatal / OT Zappendorf
Mühlencafé 06198 Salzatal / Zappendorf
Auf Händels Wegen 06198 Salzatal / Zappendorf
CATEGORIES:Familien und Kinder,Musikland,Seniorinnen + Senioren,Startseite,Volksfeste/ Märkte,Weinfest
URL:https://www.gemeinde-salzatal.de/de/veranstaltungen/event/59776,1246/23-zappendorfer-haendel-weinbluetenfest-am-13juni-2026-13-06-2026.html
ATTACH:https://www.gemeinde-salzatal.de/de/datei/anzeigen/id/59777,1246/zappendorf_-_hwbf_plakat.png
END:VEVENT
END:VCALENDAR
