BEGIN:VCALENDAR
CALSCALE:GREGORIAN
METHOD:PUBLISH
VERSION:2.0
PRODID:-//iCalWriter OpenSource Project//iCalWriter 0.8.1//EN
BEGIN:VEVENT
DTSTAMP:20260422T111528Z
UID:1776856528xGib@www.gemeinde-salzatal.de
DTSTART:20260613T180000
DTEND;VALUE=DATE:20260613
SUMMARY:Zappen Beats am 13.06.2026
DESCRIPTION:
LOCATION:Festwiese Zappendorf 
		06198 Salzatal / Zappendorf
	
Zappendorfer Carnevalsverein e. V. (ZCV) 
		06198 Salzatal / Zappendorf
	
Bürgerverein Zappendorf e. V. 06198 Salzatal / Zappendorf
Feuerwehrverein Zappendorf e. V. 06198 Salzatal / Zappendorf
Schalmeienkapelle Köllme 85 e. V. 06198 Salzatal / Köllme
CATEGORIES:Musik,Startseite
URL:https://www.gemeinde-salzatal.de/de/veranstaltungen/event/59781,1246/zappen-beats-am-13062026-13-06-2026.html
ATTACH:https://www.gemeinde-salzatal.de/de/datei/anzeigen/id/59782,1246/zappendorf_-_zappenbeats.jpg
END:VEVENT
END:VCALENDAR
